BEGIN:VCALENDAR
VERSION:2.0
PRODID:-//Tregarthen&#039;s Hotel - ECPv5.16.4//NONSGML v1.0//EN
CALSCALE:GREGORIAN
METHOD:PUBLISH
X-WR-CALNAME:Tregarthen&#039;s Hotel
X-ORIGINAL-URL:https://tregarthens.com
X-WR-CALDESC:Events for Tregarthen&#039;s Hotel
BEGIN:VTIMEZONE
TZID:Europe/London
BEGIN:DAYLIGHT
TZOFFSETFROM:+0000
TZOFFSETTO:+0100
TZNAME:BST
DTSTART:20260329T010000
END:DAYLIGHT
BEGIN:STANDARD
TZOFFSETFROM:+0100
TZOFFSETTO:+0000
TZNAME:GMT
DTSTART:20261025T010000
END:STANDARD
END:VTIMEZONE
BEGIN:VEVENT
DTSTART;VALUE=DATE:20261004
DTEND;VALUE=DATE:20261010
DTSTAMP:20260424T081204
CREATED:20200303T170002Z
LAST-MODIFIED:20260122T104728Z
UID:1083-1791108000-1791626399@tregarthens.com
SUMMARY:Scilly Dark Skies Week
DESCRIPTION:Experience the magic of Scilly Dark Skies Week on tiny St. Martin’s\, Isles of Scilly\, home to some of the UK’s darkest skies. Enjoy nightly stargazing\, expert talks and guided observations with the island’s community observatory. Suitable for beginners and experienced astronomers alike\, the week offers constellation spotting\, astrophotography and hands-on learning. Discover the wonder of true darkness and explore our vast universe alongside a welcoming local team.
URL:https://tregarthens.com/whats-on/scilly-dark-skies-week/
ATTACH;FMTTYPE=image/jpeg:https://tregarthens.com/wp-content/uploads/dark-skies-event.jpg
END:VEVENT
END:VCALENDAR